Workbook
Name BldgExpCodes: Lists!$A$308:$B$329
Name Budgets: Lists!$A$2:$A$19
Name BuildingCodes: Lists!$A$355:$A$358
Name BuildingExpenses: Lists!$A$308:$A$329
Name CAPCalcs: 'Total Expenses'!$X$74:$AA$140
Name Capital: Lists!$A$377:$A$384
Name CapitalCodes: Lists!$A$377:$B$384
Name Classification: Lists!$A$255:$A$257
Name Contract: Lists!$A$273:$A$278
Name ContractStatus: Lists!$A$281:$A$284
Name EEStatus: Lists!$A$260:$A$266
Name Employees: Lists!$A$121:$A$245
Name Existing: Lists!$A$249:$A$252
Name Funded: Lists!$A$269:$A$270
Name Funding: Lists!$A$23:$A$86
Name Location: Lists!$A$332:$A$336
Name OtherExpenses: Lists!$A$287:$A$305
Name OtherOperatingCodes: Lists!$B$287:$B$305
Name OtherOperatingExpenses: Lists!$A$287:$B$305
Name PayrollData: HR!$A$29:$Y$445
Name ProfessionalAccts: Lists!$A$347:$A$352
Name ProfExpCodes: Lists!$A$365:$B$370
Name Revenues: Lists!$A$90:$A$117
Name Supplies: Lists!$A$361:$A$362
Name SuppliesExpCodes: Lists!$A$373:$B$374
Name SuppliesType: Lists!$A$373:$A$374
Name TravelAccts: Lists!$A$339:$A$344
Name TravelExpenses: Lists!$A$339:$C$344

Sheet Summary
A1: Louisiana Housing Corporation
A2: Operating Budget - FY 16/17
A4: Operating Income | B4: FY 2013 Budget | C4: FY 2013 Actual | D4: FY 2014 Budget | E4: FY 2014 Actual | F4: FY 2015 Budget | G4: FY 2015 Actual | H4: Average Budget for FY 2012 - 2015 | I4: Average Expenses for FY 2012 - 2015 | J4: FY 2016 Budget | K4: FY 2016 Actuals - May 2016 | L4: FY 2016 Projected Actuals | M4: FY 2017 Budget Request | N4: Changes | O4: Post-meeting Updated FY 2017 Budget | P4: % Increase / (Decrease) | Q4: Projected Benefit / Accomplishment | R4: Comments/Remarks
A5: Investment/Interest Income | B5: 2045943 | C5: 2173685 | D5: 2095437 | E5: 3317530 | F5: 2354652 | G5: 1214206 | H5: =AVERAGE(B5,D5,F5) -> 2165344 | I5: =AVERAGE(C5,E5,G5) -> 2235140.3 | J5: 1010000 | K5: =Revenues!K6 -> 708673.62 | L5: 830108 | M5: =Revenues!Y6 -> 0 | O5: =SUM(M5:N5) -> 0 | P5: =(O5-J5)/J5 -> -1
A6: Home/Nat'l Hsg Trust Fund Program & Agency Admin Fees | B6: 3026603 | C6: 2211249 | D6: 1975000 | E6: 977111 | F6: 1975000 | G6: =-16178+74075-57897+300000+48.25 -> 300048.25 | H6: =AVERAGE(B6,D6,F6) -> 2325534.3 | I6: =AVERAGE(C6,E6,G6) -> 1162802.8 | J6: 407249 | K6: =Revenues!K19 -> 306600 | L6: 413849 | M6: =Revenues!Y19 -> 903821 | O6: =SUM(M6:N6) -> 903821 | P6: =(O6-J6)/J6 -> 1.2193326
A7: HUD Disposition Program Income | B7: 1998770 | C7: 1421151 | D7: 2239777 | E7: 1948320 | F7: 1926713 | G7: 2082572 | H7: =AVERAGE(B7,D7,F7) -> 2055086.7 | I7: =AVERAGE(C7,E7,G7) -> 1817347.7 | J7: 1675521 | K7: =Revenues!K36 -> 1445874 | L7: 1735049 | M7: =Revenues!Y36 -> 1955116 | O7: =SUM(M7:N7) -> 1955116 | P7: =(O7-J7)/J7 -> 0.16687048
A8: LA Housing Authority/Supportive Housing | B8: 1022446 | C8: 338070 | D8: 2275915 | E8: 1256352 | F8: 2706945 | G8: 1441207 | H8: =AVERAGE(B8,D8,F8) -> 2001768.7 | I8: =AVERAGE(C8,E8,G8) -> 1011876.3 | J8: 1323312 | K8: =Revenues!K40 -> 1623933.5 | L8: 1762981 | M8: =Revenues!Y40 -> 1837355.1 | O8: =SUM(M8:N8) -> 1837355.1 | P8: =(O8-J8)/J8 -> 0.38845193
A9: Compliance Monitoring -LIHTC Recipients | B9: 139000 | C9: 146741 | D9: 139000 | E9: 178059 | F9: 215512 | G9: 591784 | H9: =AVERAGE(B9,D9,F9) -> 164504 | I9: =AVERAGE(C9,E9,G9) -> 305528 | J9: 250720 | K9: =Revenues!K52 -> 241945.4 | L9: 241945 | M9: =Revenues!Y52 -> 213723 | O9: =SUM(M9:N9) -> 213723 | P9: =(O9-J9)/J9 -> -0.14756302
A10: Multi Family LIHTC Fees, M2M & Risk Sharing | B10: 640000 | C10: 984147 | D10: 1150000 | E10: 1274330 | F10: 1510000 | G10: 1047412 | H10: =AVERAGE(B10,D10,F10) -> 1100000 | I10: =AVERAGE(C10,E10,G10) -> 1101963 | J10: 2639250 | K10: =Revenues!K56 -> 1689049 | L10: 1690989 | M10: =Revenues!Y56-Revenues!Y57 -> 1107001 | O10: =SUM(M10:N10) -> 1107001 | P10: =(O10-J10)/J10 -> -0.58056227
A11: Multi Family Issuer Fees and MRB Application Fees | B11: 303521 | C11: 345680 | D11: 366688 | E11: 411970 | F11: 334961 | G11: 318966 | H11: =AVERAGE(B11,D11,F11) -> 335056.67 | I11: =AVERAGE(C11,E11,G11) -> 358872 | J11: 331132 | K11: =Revenues!K77 -> 375536.64 | L11: 375537 | M11: =Revenues!Y77 -> 265070 | O11: =SUM(M11:N11) -> 265070 | P11: =(O11-J11)/J11 -> -0.19950352
A12: Energy Programs (LIHEAP, WAP, ARRA WAP) | B12: 583698 | C12: 808324 | D12: 726816 | E12: =1049659+62560 -> 1112219 | F12: 1095708 | G12: 1233842 | H12: =AVERAGE(B12,D12,F12) -> 802074 | I12: =AVERAGE(C12,E12,G12) -> 1051461.7 | J12: 1313452 | K12: =Revenues!K84 -> 834099.96 | L12: 925425 | M12: =Revenues!Y84 -> 1325383.5 | O12: =SUM(M12:N12) -> 1325383.5 | P12: =(O12-J12)/J12 -> 0.0090840472
A13: Section 8 Contract Administration | B13: 2178197 | C13: 2645533 | D13: 2480140 | E13: 2742656 | F13: 2747556 | G13: 2766598 | H13: =AVERAGE(B13,D13,F13) -> 2468631 | I13: =AVERAGE(C13,E13,G13) -> 2718262.3 | J13: 2773561 | K13: =Revenues!K94 -> 2607195.3 | L13: 2851278 | M13: =Revenues!Y94 -> 3156300.1 | O13: =SUM(M13:N13) -> 3156300.1 | P13: =(O13-J13)/J13 -> 0.13799557
A14: Single Family Homebuyer/Counseling Programs | B14: 347015 | C14: 14925 | D14: 117326 | E14: 366974 | F14: 767326 | G14: 502273 | H14: =AVERAGE(B14,D14,F14) -> 410555.67 | I14: =AVERAGE(C14,E14,G14) -> 294724 | J14: =592877+60143 -> 653020 | K14: =Revenues!K103 -> 637142.95 | L14: 753869 | M14: =Revenues!Y103 -> 553904 | O14: =SUM(M14:N14) -> 553904 | P14: =(O14-J14)/J14 -> -0.15178096
A15: Single Family Bond Deal Income | B15: 1505171 | C15: 1423202 | D15: 1150820 | E15: 1290971 | F15: 980965 | G15: 1091503 | H15: =AVERAGE(B15,D15,F15) -> 1212318.7 | I15: =AVERAGE(C15,E15,G15) -> 1268558.7 | J15: 2412826 | K15: =Revenues!K118 -> 1067150.2 | L15: 2334292 | M15: =Revenues!Y118 -> 846990.42 | O15: =SUM(M15:N15) -> 846990.42 | P15: =(O15-J15)/J15 -> -0.64896332
A16: Disaster Housing Programs - Administrative Fees | B16: 1200217 | C16: 1712534 | D16: 1300855 | E16: 499370 | F16: =1524511+1000000+505000 -> 3029511 | G16: =1322114+64499 -> 1386613 | H16: =AVERAGE(B16,D16,F16) -> 1843527.7 | I16: =AVERAGE(C16,E16,G16) -> 1199505.7 | J16: =1116721+344150+495000 -> 1955871 | K16: =Revenues!K123 -> 710117.76 | L16: 1220877 | M16: =Revenues!Y123+Revenues!Y57 -> 2232352.5 | O16: =SUM(M16:N16) -> 2232352.5 | P16: =(O16-J16)/J16 -> 0.1413598
A17: Miscellaneous Income | B17: 0 | C17: 144319 | D17: 0 | E17: 9493 | F17: 0 | G17: 36818 | H17: =AVERAGE(B17,D17,F17) -> 0 | I17: =AVERAGE(C17,E17,G17) -> 63543.333 | J17: 0 | K17: =Revenues!K140 -> 22991 | L17: 22991 | M17: =Revenues!Y140 -> 6000 | O17: =SUM(M17:N17) -> 6000 | P17: =(O17-J17)/J17 -> #DIV/0!
A18: Total Operating Income | B18: =SUM(B5:B17) -> 14990581 | C18: =SUM(C5:C17) -> 14369560 | D18: =SUM(D5:D17) -> 16017774 | E18: =SUM(E5:E17) -> 15385355 | F18: =SUM(F5:F17) -> 19644849 | G18: =SUM(G5:G17) -> 14013842 | H18: =SUM(H5:H17) -> 16884401 | I18: =SUM(I5:I17) -> 14589586 | ... O18: =SUM(O5:O17) -> 14403017 | P18: =(O18-J18)/J18 -> -0.1399086
A20: Operating Expenses
A21: Human Resources | B21: 9765084 | C21: 9324126 | D21: 10647007 | E21: 10096645 | F21: 13825940 | G21: 11646799 | H21: =AVERAGE(B21,D21,F21) -> 11412677 | I21: =AVERAGE(C21,E21,G21) -> 10355857 | J21: ='Total Expenses'!C4 -> 11439323 | K21: 9190394 | L21: 10000000 | M21: ='Total Expenses'!D68 -> 10391631 | O21: =SUM(M21:N21) -> 10391631 | P21: =(O21-J21)/J21 -> -0.091586915
A22: Travel & Training | B22: 346584 | C22: 279926 | D22: 387025 | E22: 326365 | F22: 463895 | G22: 241929 | H22: =AVERAGE(B22,D22,F22) -> 399168 | I22: =AVERAGE(C22,E22,G22) -> 282740 | J22: ='Total Expenses'!C7 -> 332257 | K22: 95971 | L22: 135000 | M22: ='Total Expenses'!G68 -> 315244.5 | O22: =SUM(M22:N22) -> 315244.5 | P22: =(O22-J22)/J22 -> -0.051202834
A23: Operating Services | B23: 1088849 | C23: 1033778 | D23: 1249981 | E23: 1145211 | F23: 1228526 | G23: 1061236 | H23: =AVERAGE(B23,D23,F23) -> 1189118.7 | I23: =AVERAGE(C23,E23,G23) -> 1080075 | J23: ='Total Expenses'!C8 -> 954232 | K23: 1070908 | L23: 1165000 | M23: ='Total Expenses'!H68 -> 1254026.2 | O23: =SUM(M23:N23) -> 1254026.2 | P23: =(O23-J23)/J23 -> 0.31417329
A24: Building Bond Interest | B24: 97024 | C24: 93588 | D24: 77637 | E24: 74838 | F24: 56819 | G24: 83006 | H24: =AVERAGE(B24,D24,F24) -> 77160 | I24: =AVERAGE(C24,E24,G24) -> 83810.667 | J24: ='Total Expenses'!C11 -> 38275 | K24: 0 | L24: 38275 | M24: ='Total Expenses'!K68 -> 13568.75 | O24: =SUM(M24:N24) -> 13568.75 | P24: =(O24-J24)/J24 -> -0.64549314
A25: Building Expenses | B25: 271150 | C25: 290576 | D25: =250100+0 -> 250100 | E25: =262835+43885-1 -> 306719 | F25: =252360+71037 -> 323397 | G25: =315150+57095 -> 372245 | H25: =AVERAGE(B25,D25,F25) -> 281549 | I25: =AVERAGE(C25,E25,G25) -> 323180 | J25: ='Total Expenses'!C12 -> 373297 | K25: 275320 | L25: 300350 | M25: ='Total Expenses'!L68 -> 357727 | O25: =SUM(M25:N25) -> 357727 | P25: =(O25-J25)/J25 -> -0.041709416
A26: Supplies | B26: 155200 | C26: 123246 | D26: 158417 | E26: 108140 | F26: 132351 | G26: 105727 | H26: =AVERAGE(B26,D26,F26) -> 148656 | I26: =AVERAGE(C26,E26,G26) -> 112371 | J26: ='Total Expenses'!C9 -> 118400 | K26: 53558 | L26: 58450 | M26: ='Total Expenses'!I68 -> 100150 | O26: =SUM(M26:N26) -> 100150 | P26: =(O26-J26)/J26 -> -0.15413851
A27: Auditing | B27: 132750 | C27: 131990 | D27: 151965 | E27: 175405 | F27: 160465 | G27: =99930 -> 99930 | H27: =AVERAGE(B27,D27,F27) -> 148393.33 | I27: =AVERAGE(C27,E27,G27) -> 135775 | J27: ='Total Expenses'!C10 -> 244515 | K27: 181354 | L27: 230000 | M27: ='Total Expenses'!J68 -> 222500 | O27: =SUM(M27:N27) -> 222500 | P27: =(O27-J27)/J27 -> -0.090035376
A28: Legal Services | B28: 100000 | C28: 69729 | D28: 104000 | E28: 76956 | F28: 105000 | G28: =65344 -> 65344 | H28: =AVERAGE(B28,D28,F28) -> 103000 | I28: =AVERAGE(C28,E28,G28) -> 70676.333 | J28: ='Total Expenses'!C6 -> 92334 | K28: 47602 | L28: 53000 | M28: ='Total Expenses'!F68 -> 100000 | O28: =SUM(M28:N28) -> 100000 | P28: =(O28-J28)/J28 -> 0.083024671
A29: Professional Services | B29: 1736839 | C29: 1210757 | D29: 2103165 | E29: 1922313 | F29: 2582825 | G29: 2608090 | H29: =AVERAGE(B29,D29,F29) -> 2140943 | I29: =AVERAGE(C29,E29,G29) -> 1913720 | J29: ='Total Expenses'!C5 -> 2240639 | K29: 1182882 | L29: 1300000 | M29: ='Total Expenses'!E68 -> 1425459 | O29: =SUM(M29:N29) -> 1425459 | P29: =(O29-J29)/J29 -> -0.36381585
A30: 2/23/16 Tornado Emergency Assistance Program | B30: 0 | C30: 0 | D30: 0 | E30: 0 | F30: 0 | G30: 0 | H30: =AVERAGE(B30,D30,F30) -> 0 | I30: =AVERAGE(C30,E30,G30) -> 0 | J30: =1000000-1000000 -> 0 | K30: 0 | L30: 0 | M30: 0 | O30: =SUM(M30:N30) -> 0 | P30: =(O30-J30)/J30 -> #DIV/0!
A31: Total Operating Expenses | B31: =SUM(B21:B30) -> 13693480 | C31: =SUM(C21:C30) -> 12557716 | D31: =SUM(D21:D30) -> 15129297 | E31: =SUM(E21:E30) -> 14232592 | F31: =SUM(F21:F30) -> 18879218 | G31: =SUM(G21:G29) -> 16284306 | H31: =SUM(H21:H30) -> 15900665 | I31: =SUM(I21:I30) -> 14358205 | J31: =SUM(J21:J30) -> 15833272 | K31: =SUM(K21:K30) -> 12097989 | L31: =SUM(L21:L30) -> 13280075 | M31: =SUM(M21:M30) -> 14180306 | N31: =SUM(N21:N29) -> 0 | O31: =SUM(O21:O29) -> 14180306 | P31: =(O31-J31)/J31 -> -0.10439825
A33: Excess Revenues Over Expenses from Operations | B33: =B18-B31 -> 1297101 | C33: =C18-C31 -> 1811844 | D33: =D18-D31 -> 888477 | E33: =E18-E31 -> 1152763 | F33: =F18-F31 -> 765631 | G33: =G18-G31 -> -2270463.8 | H33: =H18-H31 -> 983736.33 | I33: =I18-I31 -> 231381.08 | ... O33: =O18-O31 -> 222710.51 | P33: =(O33-J33)/J33 -> -0.75597167
A35: Capital Expenditures | B35: 440000 | C35: 327332 | D35: 341000 | E35: 269877 | F35: 362603 | G35: 275691 | H35: =AVERAGE(B35,D35,F35) -> 381201 | I35: =AVERAGE(C35,E35,G35) -> 290966.67 | J35: 0 | K35: 22401 | L35: 22401 | M35: ='Capital Exp'!E3 -> 85000 | O35: =SUM(M35:N35) -> 85000 | P35: =(O35-J35)/J35 -> #DIV/0!
A37: Net Excess Revenue Over Expenditures from Operations | B37: =B33-B35 -> 857101 | C37: =C33-C35 -> 1484512 | D37: =D33-D35 -> 547477 | E37: =E33-E35 -> 882886 | F37: =F33-F35 -> 403028 | G37: =G33-G35 -> -2546154.8 | H37: =H33-H35 -> 602535.33 | I37: =I33-I35 -> -59585.583 | ... O37: =O33-O35 -> 137710.51 | P37: =(O37-J37)/J37 -> -0.84910786
A39: Full-Time Employees | B39: 126.5 | C39: 116 | D39: 132 | E39: 123 | F39: 153 | G39: 119 | H39: =AVERAGE(B39,D39,F39) -> 137.16667 | I39: =AVERAGE(C39,E39,G39) -> 119.33333 | J39: 120 | K39: 106 | L39: 101 | M39: =HR!I3 -> 110 | O39: =SUM(M39:N39) -> 110 | P39: =(O39-J39)/J39 -> -0.083333333

Sheet Revenues
B1: Operating Income
A4: GL | C4: Budget | D4: Funding | E4: Grant/Program | F4: Expiration | G4: Maximum | K4: To-Date | L4: Balance | M4: Quarter 1 | P4: Quarter 2 | S4: Quarter 3 | V4: Quarter 4
A5: Account | B5: Description | C5: Unit | D5: Source | E5: Year | F5: Date | G5: Fee | H5: FY 2013 | I5: FY 2014 | J5: FY 2015 | K5: FY 2016 | L5: Available | M5: Base Rate | N5: Qty | O5: Estimate | P5: Base Rate | Q5: Qty | R5: Estimate | S5: Base Rate | T5: Qty | U5: Estimate | V5: Base Rate | W5: Qty | X5: Estimate | Y5: Total Estimate
B6: Investment/Interest Income | G6: =SUM(G7:G16) -> 0 | H6: =SUM(H7:H17) -> 2173685.1 | I6: =SUM(I7:I17) -> 3317529.9 | J6: =SUM(J7:J17) -> 1214206.1 | K6: =SUM(K7:K17) -> 708673.62 | L6: =SUM(L7:L17) -> 0 | O6: =SUM(O7:O17) -> 0 | R6: =SUM(R7:R17) -> 0 | U6: =SUM(U7:U17) -> 0 | X6: =SUM(X7:X17) -> 0 | Y6: =SUM(Y7:Y17) -> 0
A7: 4040*005*000*266 | B7: Investment/Interest Income | C7: Executive Staff | D7: Shared - General Fund | E7: N/A | F7: N/A | G7: 0 | H7: 85.29 | I7: 0 | J7: 0 | K7: 290.75 | L7: 0 | M7: 0 | N7: 0 | O7: =N7*M7 -> 0 | P7: 0 | Q7: 0 | R7: =Q7*P7 -> 0 | S7: 0 | T7: 0 | U7: =T7*S7 -> 0 | V7: 0 | W7: 0 | X7: =W7*V7 -> 0 | Y7: =X7+U7+R7+O7 -> 0
A8: 4040*040*090*267 | B8: Investment/Interest Income | C8: Energy Assistance Programs | D8: Risk Sharing Program | E8: N/A | F8: N/A | G8: 0 | H8: 6.83 | I8: 0.1 | J8: 0.12 | K8: 1.21 | L8: 0 | M8: 0 | N8: 0 | O8: =N8*M8 -> 0 | P8: 0 | Q8: 0 | R8: =Q8*P8 -> 0 | S8: 0 | T8: 0 | U8: =T8*S8 -> 0 | V8: 0 | W8: 0 | X8: =W8*V8 -> 0 | Y8: =X8+U8+R8+O8 -> 0
A9: 4040*040*110*313 | B9: Investment/Interest Income | C9: Single Family Production (part of Rental Production) | D9: Mortgage Revenue Bonds | E9: N/A | F9: N/A | G9: 0 | H9: 5.56 | I9: 41.18 | J9: 34.91 | K9: 160.29 | L9: 0 | M9: 0 | N9: 0 | O9: =N9*M9 -> 0 | P9: 0 | Q9: 0 | R9: =Q9*P9 -> 0 | S9: 0 | T9: 0 | U9: =T9*S9 -> 0 | V9: 0 | W9: 0 | X9: =W9*V9 -> 0 | Y9: =X9+U9+R9+O9 -> 0
A10: 4040*040*150*273 | B10: Investment/Interest Income | C10: Executive Staff | D10: HUD Disposition - Gaslight/Village de Jardin | E10: N/A | F10: N/A | G10: 0 | H10: -9742.88 | I10: 59.67 | J10: 18.23 | K10: 390.28 | L10: 0 | M10: 0 | N10: 0 | O10: =N10*M10 -> 0 | P10: 0 | Q10: 0 | R10: =Q10*P10 -> 0 | S10: 0 | T10: 0 | U10: =T10*S10 -> 0 | V10: 0 | W10: 0 | X10: =W10*V10 -> 0 | Y10: =X10+U10+R10+O10 -> 0
A11: 4040*040*000*322 | B11: Investment/Interest Income | C11: Executive Staff | D11: Workforce Development Program | E11: N/A | F11: N/A | G11: 0 | H11: 0 | I11: 0 | J11: 0 | K11: 325.71 | L11: 0 | M11: 0 | N11: 0 | O11: =N11*M11 -> 0 | P11: 0 | Q11: 0 | R11: =Q11*P11 -> 0 | S11: 0 | T11: 0 | U11: =T11*S11 -> 0 | V11: 0 | W11: 0 | X11: =W11*V11 -> 0 | Y11: =X11+U11+R11+O11 -> 0
A12: 4045*005*000*266 | B12: Investment/Interest Income | C12: Executive Staff | D12: Allocable - Shared Funding including General Fund | E12: N/A | F12: N/A | G12: 0 | H12: 1377711.8 | I12: 2403529.2 | J12: 312007.7 | K12: 93307.74 | L12: 0 | M12: 0 | N12: 0 | O12: =N12*M12 -> 0 | P12: 0 | Q12: 0 | R12: =Q12*P12 -> 0 | S12: 0 | T12: 0 | U12: =T12*S12 -> 0 | V12: 0 | W12: 0 | X12: =W12*V12 -> 0 | Y12: =X12+U12+R12+O12 -> 0
A13: 4045*040*000*322 | B13: Investment/Interest Income | C13: Executive Staff | D13: Workforce Development Program | E13: N/A | F13: N/A | G13: 0 | H13: 0 | I13: 88857.6 | J13: 277876.17 | K13: 158194.04 | L13: 0 | M13: 0 | N13: 0 | O13: =N13*M13 -> 0 | P13: 0 | Q13: 0 | R13: =Q13*P13 -> 0 | S13: 0 | T13: 0 | U13: =T13*S13 -> 0 | V13: 0 | W13: 0 | X13: =W13*V13 -> 0 | Y13: =X13+U13+R13+O13 -> 0
A14: 4045*040*090*267 | B14: Investment/Interest Income | C14: Energy Assistance Programs | D14: Risk Sharing Program | E14: N/A | F14: N/A | G14: 0 | H14: 102758.73 | I14: 92109.35 | J14: 94783.98 | K14: 76923.57 | L14: 0 | M14: 0 | N14: 0 | O14: =N14*M14 -> 0 | P14: 0 | Q14: 0 | R14: =Q14*P14 -> 0 | S14: 0 | T14: 0 | U14: =T14*S14 -> 0 | V14: 0 | W14: 0 | X14: =W14*V14 -> 0 | Y14: =X14+U14+R14+O14 -> 0
A15: 4045*040*090*445 | B15: Investment/Interest Income | C15: Rental Production (includes Single Family Production) | D15: Risk Sharing Program | E15: N/A | F15: N/A | G15: 0 | H15: 251.89 | I15: 69.42 | J15: =197743.87-197743.87 -> 0 | K15: 1458.73 | L15: 0 | M15: 0 | N15: 0 | O15: =N15*M15 -> 0 | P15: 0 | Q15: 0 | R15: =Q15*P15 -> 0 | S15: 0 | T15: 0 | U15: =T15*S15 -> 0 | V15: 0 | W15: 0 | X15: =W15*V15 -> 0 | Y15: =X15+U15+R15+O15 -> 0
A16: 4045*040*150*273 | B16: Investment/Interest Income | C16: Executive Staff | D16: HUD Disposition - Gaslight/Village de Jardin | E16: N/A | F16: N/A | G16: 0 | H16: 149291.53 | I16: 182193.78 | J16: 1020.15 | K16: 1560.5 | L16: 0 | M16: 0 | N16: 0 | O16: =N16*M16 -> 0 | P16: 0 | Q16: 0 | R16: =Q16*P16 -> 0 | S16: 0 | T16: 0 | U16: =T16*S16 -> 0 | V16: 0 | W16: 0 | X16: =W16*V16 -> 0 | Y16: =X16+U16+R16+O16 -> 0
A17: 40__*___*___*___ | B17: Investment/Interest Income | C17: Executive Staff | D17: Shared - General Fund | E17: N/A | F17: N/A | G17: 0 | H17: 553316.34 | I17: 550669.53 | J17: 528464.89 | K17: =4.85+127.59+0.26+19.84+1045.26+231.68+4127.45+440.94+3018.9+62.76+366981.27 -> 376060.8 | L17: 0 | M17: 0 | N17: 0 | O17: =N17*M17 -> 0 | P17: 0 | Q17: 0 | R17: =Q17*P17 -> 0 | S17: 0 | T17: 0 | U17: =T17*S17 -> 0 | V17: 0 | W17: 0 | X17: =W17*V17 -> 0 | Y17: =X17+U17+R17+O17 -> 0
B19: HOME & Nat'l Housing Trust Fund Program Fees/Admin | G19: =SUM(G20:G34) -> 2195179.4 | H19: =SUM(H20:H34) -> 2211249 | I19: =SUM(I20:I34) -> 977111.22 | J19: =SUM(J20:J34) -> 300048.25 | K19: =SUM(K20:K34) -> 306600 | L19: =SUM(L20:L34) -> 1895179.4 | O19: =SUM(O20:O34) -> 225955.25 | R19: =SUM(R20:R34) -> 225955.25 | U19: =SUM(U20:U34) -> 225955.25 | X19: =SUM(X20:X34) -> 225955.25 | Y19: =SUM(Y20:Y34) -> 903821
A20: 4110*040*025*445 | B20: Administrative Fees | C20: Rental Production (includes Single Family Production) | D20: HOME Pgm | E20: Prior Years | H20: 2211249 | I20: 842460.97 | J20: 300000 | K20: 0 | L20: 0 | O20: 0 | R20: 0 | U20: 0 | X20: 0 | Y20: =X20+U20+R20+O20 -> 0
A21: 4110*040*025*445 | B21: Administrative Fees | C21: Rental Production (includes Single Family Production) | D21: HOME Pgm | E21: 2013 | F21: =E21+5 -> 2018 | G21: =124499.9 -> 124499.9 | H21: 0 | I21: 0 | J21: 0 | K21: 0 | L21: =G21-K21 -> 124499.9 | M21: 100667.16 | N21: 1 | O21: =N21*M21 -> 100667.16 | R21: 0 | U21: 0 | X21: 0 | Y21: =X21+U21+R21+O21 -> 100667.16 | Z21: x
A22: 4110*040*025*445 | B22: Administrative Fees | C22: Rental Production (includes Single Family Production) | D22: HOME Pgm | E22: 2014 | F22: =E22+5 -> 2019 | G22: =745654.7+142088.31 -> 887743.01 | H22: 0 | I22: 0 | J22: 0 | K22: 142088.31 | L22: =G22-K22 -> 745654.7 | M22: 0 | N22: 1 | O22: =N22*M22 -> 0 | P22: 100000 | Q22: 1 | R22: 100000 | S22: 100000 | T22: 1 | U22: 100000 | V22: 100000 | W22: 1 | X22: 100000 | Y22: =X22+U22+R22+O22 -> 300000 | Z22: x
A23: 4110*040*025*445 | B23: Administrative Fees | C23: Rental Production (includes Single Family Production) | D23: HOME Pgm | E23: 2015 | F23: =E23+5 -> 2020 | G23: =217327.95+651593 -> 868920.95 | H23: 0 | I23: 0 | J23: 0 | K23: 157911.69 | L23: =G23-K23 -> 711009.26 | M23: 24332.84 | N23: 1 | O23: =N23*M23 -> 24332.84 | P23: 25000 | Q23: 1 | R23: 25000 | S23: 25000 | T23: 1 | U23: 25000 | V23: 25000 | W23: 1 | X23: 25000 | Y23: =X23+U23+R23+O23 -> 99332.84 | Z23: x
A24: 4110*040*025*445 | B24: Administrative Fees | C24: Rental Production (includes Single Family Production) | D24: HOME Pgm | E24: 2016 | F24: =E24+5 -> 2021 | G24: 14015.51 | H24: 0 | I24: 0 | J24: 0 | K24: 0 | L24: =G24-K24 -> 14015.51 | O24: 0 | R24: 0 | U24: 0 | X24: 0 | Y24: =X24+U24+R24+O24 -> 0
A25: 4110*040*184*445 | B25: Administrative Fees | C25: Rental Production (includes Single Family Production) | D25: Nat'l Housing Trust Fund | E25: 2016 | G25: 300000 | H25: 0 | I25: 0 | J25: 0 | K25: 0 | L25: =G25-SUM(H25:K25) -> 300000 | M25: =90000/12 -> 7500 | N25: 3 | O25: =N25*M25 -> 22500 | P25: =90000/12 -> 7500 | Q25: 3 | R25: =Q25*P25 -> 22500 | S25: =90000/12 -> 7500 | T25: 3 | U25: =T25*S25 -> 22500 | V25: =90000/12 -> 7500 | W25: 3 | X25: =W25*V25 -> 22500 | Y25: =X25+U25+R25+O25 -> 90000 | Z25: x
A26: 4130*040*025*000 | B26: Analysis Fees | C26: Rental Production (includes Single Family Production) | D26: HOME Pgm | E26: 2016 | F26: N/A | G26: 0 | H26: 0 | I26: 0 | J26: 0 | K26: 0 | L26: 0 | M26: 2500 | N26: 0 | O26: =N26*M26 -> 0 | R26: =Q26*P26 -> 0 | S26: 2500 | T26: 0 | U26: =T26*S26 -> 0 | V26: 2000 | W26: 0 | X26: =W26*V26 -> 0 | Y26: =X26+U26+R26+O26 -> 0
A27: 4130*040*025*000 | B27: Analysis Fees | C27: Rental Production (includes Single Family Production) | D27: HOME Pgm | E27: 2017 | F27: N/A | G27: 0 | H27: 0 | I27: 0 | J27: 0 | K27: 0 | L27: 0 | O27: =N27*M27 -> 0 | R27: =Q27*P27 -> 0 | U27: =T27*S27 -> 0 | X27: =W27*V27 -> 0 | Y27: =X27+U27+R27+O27 -> 0
A28: 4140*040*025*000 | B28: Application Fees | C28: Rental Production (includes Single Family Production) | D28: HOME Pgm | E28: 2016 | F28: N/A | G28: 0 | H28: 0 | I28: 0 | J28: =40200-36000-4200 -> 0 | K28: 2100 | L28: 0 | O28: =N28*M28 -> 0 | R28: =Q28*P28 -> 0 | U28: =T28*S28 -> 0 | X28: =W28*V28 -> 0 | Y28: =X28+U28+R28+O28 -> 0
A29: 4140*040*025*000 | B29: Application Fees | C29: Rental Production (includes Single Family Production) | D29: HOME Pgm | E29: 2017 | F29: N/A | G29: 0 | H29: 0 | I29: 0 | J29: 0 | K29: 0 | L29: 0 | M29: 2500 | O29: =N29*M29 -> 0 | P29: 0 | R29: =Q29*P29 -> 0 | S29: 2500 | U29: =T29*S29 -> 0 | V29: 2000 | X29: =W29*V29 -> 0 | Y29: =X29+U29+R29+O29 -> 0
A30: 4145*040*025*000 | B30: Market Study Fees | C30: Rental Production (includes Single Family Production) | D30: HOME Pgm | E30: 2016 | F30: N/A | G30: 0 | H30: 0 | I30: 0 | J30: =27500-22500-5000 -> 0 | K30: 4500 | L30: 0 | M30: 4500 | O30: =N30*M30 -> 0 | P30: 4500 | R30: =Q30*P30 -> 0 | S30: 4500 | U30: =T30*S30 -> 0 | V30: 4500 | X30: =W30*V30 -> 0 | Y30: =X30+U30+R30+O30 -> 0
A31: 4145*040*025*000 | B31: Market Study Fees | C31: Rental Production (includes Single Family Production) | D31: HOME Pgm | E31: 2017 | F31: N/A | G31: 0 | H31: 0 | I31: 0 | J31: 0 | K31: 0 | L31: 0 | M31: 4500 | O31: =N31*M31 -> 0 | P31: 4500 | R31: =Q31*P31 -> 0 | S31: 4500 | U31: =T31*S31 -> 0 | V31: 4500 | X31: =W31*V31 -> 0 | Y31: =X31+U31+R31+O31 -> 0
A32: 4145*040*025*000 | B32: Project Delivery | C32: Rental Production (includes Single Family Production) | D32: HOME Pgm | E32: 2017 | F32: N/A | G32: 0 | H32: 0 | I32: 0 | J32: 0 | K32: 0 | L32: 0 | M32: =1000/3 -> 333.33333 | N32: 3 | O32: =N32*M32 -> 1000 | P32: =1000/3 -> 333.33333 | Q32: 3 | R32: =Q32*P32 -> 1000 | S32: =1000/3 -> 333.33333 | T32: 3 | U32: =T32*S32 -> 1000 | V32: =1000/3 -> 333.33333 | W32: 3 | X32: =W32*V32 -> 1000 | Y32: =X32+U32+R32+O32 -> 4000 | Z32: x
A33: 4200*040*025*000 | B33: Program Income - SF Loans | C33: Rental Production (includes Single Family Production) | D33: HOME Pgm | E33: 2017 | F33: =E33+5 -> 2022 | G33: 0 | H33: =2155200.11-2155200.11 -> 0 | I33: 134650.25 | J33: 48.25 | K33: 0 | L33: 0 | M33: =77455.25/3 -> 25818.417 | N33: 3 | O33: =N33*M33 -> 77455.25 | P33: =77455.25/3 -> 25818.417 | Q33: 3 | R33: =Q33*P33 -> 77455.25 | S33: =77455.25/3 -> 25818.417 | T33: 3 | U33: =T33*S33 -> 77455.25 | V33: =77455.25/3 -> 25818.417 | W33: 3 | X33: =W33*V33 -> 77455.25 | Y33: =X33+U33+R33+O33 -> 309821 | Z33: x
A34: 4210*040*025*000 | B34: Sub-Layering Fees | C34: Rental Production (includes Single Family Production) | D34: HOME Pgm | E34: 2017 | F34: N/A | G34: 0 | H34: 0 | I34: 0 | J34: =6375-6375 -> 0 | K34: 0 | L34: 0 | O34: =N34*M34 -> 0 | R34: =Q34*P34 -> 0 | U34: =T34*S34 -> 0 | X34: =W34*V34 -> 0 | Y34: =X34+U34+R34+O34 -> 0
B36: HUD Disposition Program Income | G36: =SUM(G37:G38) -> 0 | H36: =SUM(H37:H38) -> 1421150.7 | I36: =SUM(I37:I38) -> 1948320.2 | J36: =SUM(J37:J38) -> 2082571.6 | K36: =SUM(K37:K38) -> 1445874 | L36: =SUM(L37:L38) -> 0 | O36: =SUM(O37:O38) -> 488779 | R36: =SUM(R37:R38) -> 488779 | U36: =SUM(U37:U38) -> 488779 | X36: =SUM(X37:X38) -> 488779 | Y36: =SUM(Y37:Y38) -> 1955116
A37: 7050*040*150*160 | B37: HUD Disposition Program Income | C37: Executive Staff | D37: HUD Disposition - Gaslight/Village de Jardin | E37: N/A | F37: N/A | G37: 0 | H37: =-1172197.06+1281721 -> 109523.94 | I37: =-984797.78+1283204+2567 -> 300973.22 | J37: =-674093.88+1283699 -> 609605.12 | K37: 677608.82 | L37: 0 | M37: =132528/3 -> 44176 | N37: 3 | O37: =N37*M37 -> 132528 | P37: =132528/3 -> 44176 | Q37: 3 | R37: =Q37*P37 -> 132528 | S37: =132528/3 -> 44176 | T37: 3 | U37: =T37*S37 -> 132528 | V37: =132528/3 -> 44176 | W37: 3 | X37: =W37*V37 -> 132528 | Y37: =X37+U37+R37+O37 -> 530112 | Z37: x
A38: 7050*040*150*165 | B38: HUD Disposition Program Income | C38: Executive Staff | D38: HUD Disposition - Willowbrook | E38: N/A | F38: N/A | G38: 0 | H38: =141626.79+1170000 -> 1311626.8 | I38: =447282.03+(468754-447282.03)+27417+1151176 -> 1647347 | J38: =264160.48+57500+1151306 -> 1472966.5 | K38: 768265.21 | L38: 0 | M38: =356251/3 -> 118750.33 | N38: 3 | O38: =N38*M38 -> 356251 | P38: =356251/3 -> 118750.33 | Q38: 3 | R38: =Q38*P38 -> 356251 | S38: =356251/3 -> 118750.33 | T38: 3 | U38: =T38*S38 -> 356251 | V38: =356251/3 -> 118750.33 | W38: 3 | X38: =W38*V38 -> 356251 | Y38: =X38+U38+R38+O38 -> 1425004 | Z38: x
L39: =G39-K39 -> 0
B40: LHA/Supportive Housing Pgms | G40: =SUM(G41:G50) -> 6118089.7 | H40: =SUM(H41:H50) -> 338069.94 | I40: =SUM(I41:I50) -> 1256351.9 | J40: =SUM(J41:J50) -> 1441207.2 | K40: =SUM(K41:K50) -> 1623933.5 | L40: =SUM(L41:L50) -> 1458527.1 | O40: =SUM(O41:O50) -> 466120.26 | R40: =SUM(R41:R50) -> 466120.25 | U40: =SUM(U41:U50) -> 459187.33 | X40: =SUM(X41:X50) -> 445927.26 | Y40: =SUM(Y41:Y50) -> 1837355.1
A41: 4110*040*116*445 | B41: Administrative Fees | C41: Louisiana Housing Authority | D41: ESG Shelter Program | E41: Prior Years | F41: 42430 | G41: =520773.19+35981+16088.04+657.2 -> 573499.43 | H41: 112057.09 | I41: 157336.63 | J41: 189128.85 | K41: 100452.38 | L41: =G41-H41-I41-J41-K41 -> 14524.48 | M41: 11358.67 | N41: 2 | O41: =N41*M41 -> 22717.34 | R41: =Q41*P41 -> 0 | U41: =T41*S41 -> 0 | X41: =W41*V41 -> 0 | Y41: =X41+U41+R41+O41 -> 22717.34 | Z41: x
A42: 4110*040*116*445 | B42: Administrative Fees | C42: Louisiana Housing Authority | D42: ESG Shelter Program | E42: 2015 | F42: 42795 | G42: 28127 | H42: 0 | I42: 0 | J42: 0 | K42: 0 | L42: =G42-H42-I42-J42-K42 -> 28127 | M42: 11358.67 | N42: 1 | O42: =N42*M42 -> 11358.67 | P42: 11358.67 | Q42: 1.475 | R42: =Q42*P42+14.29 -> 16768.328 | S42: 0 | T42: 0 | U42: =T42*S42 -> 0 | V42: 0 | W42: 0 | X42: =W42*V42 -> 0 | Y42: =X42+U42+R42+O42 -> 28126.998 | Z42: x
A43: 4110*040*116*445 | B43: Administrative Fees | C43: Louisiana Housing Authority | D43: ESG Shelter Program | E43: 2016 | F43: 43160 | G43: 108177 | H43: 0 | I43: 0 | J43: 0 | K43: 0 | L43: =G43-H43-I43-J43-K43 -> 108177 | M43: 0 | N43: 0 | O43: =N43*M43 -> 0 | P43: 11358.67 | Q43: 1.52 | R43: =Q43*P43+42.49 -> 17307.668 | S43: 11358.67 | T43: 3 | U43: =T43*S43 -> 34076.01 | V43: 11358.67 | W43: 3 | X43: =W43*V43 -> 34076.01 | Y43: =X43+U43+R43+O43 -> 85459.688 | Z43: x
A44: 4110*045*100*445 | B44: Administrative Fees | C44: Louisiana Housing Authority | D44: Project-Based Section 8 Voucher Pgm | E44: Prior Years | F44: N/A | G44: =401961+157010.88+975380.49+968000+998987 -> 3501339.4 | H44: 157010.88 | I44: 975380.49 | J44: 968000 | K44: 1154692 | L44: =G44-H44-I44-J44-K44 -> 246256 | M44: 0 | N44: 0 | O44: =N44*M44 -> 0 | P44: 0 | Q44: 0 | R44: =Q44*P44 -> 0 | S44: 0 | T44: 0 | U44: =T44*S44 -> 0 | V44: 0 | W44: 0 | X44: =W44*V44 -> 0 | Y44: =X44+U44+R44+O44 -> 0
...

Sheet MF Issuer Fees
A1: Louisiana Housing Corporation
A2: Multi-Family Issuer Fees
A4: Bond Projects | B4: Actual | C4: Actual | D4: Actual | E4: Actual to Date | F4: Proj remaing | G4: Projected | H4: Projected
B5: FY 2013 | C5: FY 2014 | D5: FY 2015 | E5: FY 2016 | F5: FY 2016 | G5: FY 2016 | H5: FY 2017 | I5: Notes
A6: 1501 Canal Apts 2012 | B6: =18000 -> 18000 | C6: 18000 | D6: 18000 | E6: 18000 | G6: =SUM(E6:F6) -> 18000 | H6: 18000
A7: Arbor Place | B7: 8015 | C7: 7910 | D7: =7800 -> 7800 | E7: 7685 | F7: 0 | G7: =SUM(E7:F7) -> 7685 | H7: 7800
A8: Azalea Estates/HCCI Assisted Living | B8: 14650 | C8: 14430 | D8: 14195 | E8: 0 | F8: 0 | G8: =SUM(E8:F8) -> 0 | H8: 0 | I8: Bonds paid off FY15
A9: Belmont | B9: 8950 | C9: 8795 | D9: =8610 -> 8610 | F9: 8600 | G9: =SUM(E9:F9) -> 8600 | H9: 8600
A10: Blue Plate Lofts 2011 | B10: 13000 | C10: 1186.13 | D10: =1170.2 -> 1170.2 | F10: 100 | G10: =SUM(E10:F10) -> 100 | H10: 1000
A11: BW Cooper 2013 | C11: 20000 | E11: 0 | F11: 0 | G11: =SUM(E11:F11) -> 0 | H11: 0 | I11: Bonds paid off FY15
A12: Canaan Village 2014 | C12: 5500 | F12: 0 | G12: =SUM(E12:F12) -> 0 | H12: 0 | I12: Mandatory tendor date 12/15/15
A13: Cantebury/Sherwood | B13: 15470 | C13: 15470 | D13: =15470 -> 15470 | E13: 15470 | F13: 0 | G13: =SUM(E13:F13) -> 15470 | H13: 14500
A14: Choctaw Lodge 2014 | D14: 4150 | E14: 4150 | F14: 0 | G14: =SUM(E14:F14) -> 4150 | H14: 3900
A15: The Crossing Apts 2006 | B15: 7395.59 | C15: 7344.36 | D15: =7289.88 -> 7289.88 | F15: 7200 | G15: =SUM(E15:F15) -> 7200 | H15: 7100
A16: Cypress Springs 2015 | D16: 9250 | E16: 9250 | F16: 0 | G16: =SUM(E16:F16) -> 9250 | H16: 8700
A17: Cyrus Homes 2013 | C17: 4100 | E17: 4100 | F17: 0 | G17: =SUM(E17:F17) -> 4100 | H17: 3700
A18: Elm Drive Senior 2013 | C18: 3500 | E18: 0 | F18: 0 | G18: =SUM(E18:F18) -> 0 | H18: 0 | I18: Bonds paid off FY15
A19: The Elysians Project 2012 | C19: 12979.14 | D19: =3674.89 -> 3674.89 | F19: 3600 | G19: =SUM(E19:F19) -> 3600 | H19: 3000
A20: Emerald Point 2007 | B20: 4630 | C20: 4630 | D20: 4630 | E20: 4630 | F20: 0 | G20: =SUM(E20:F20) -> 4630 | H20: 4200
A21: Galilee 2003 | B21: 3050 | C21: 4510 | D21: =1490+1480 -> 2970 | E21: =1470+1460 -> 2930 | F21: 0 | G21: =SUM(E21:F21) -> 2930 | H21: =1470+1460 -> 2930
A22: Garden Oaks 2011 | B22: 7350 | E22: 0 | F22: 0 | G22: =SUM(E22:F22) -> 0 | H22: 0 | I22: Bonds paid off
A23: Garden Senior 2012 | B23: 4000 | C23: 2000 | D23: =2000+750 -> 2750 | E23: 1500 | F23: 750 | G23: =SUM(E23:F23) -> 2250 | H23: 750
A24: GCHP - Esplanade 2014 | D24: 3400 | E24: 3400 | F24: 0 | G24: =SUM(E24:F24) -> 3400 | H24: 3400
A25: Guste Homes III 2013 | C25: 25600 | D25: 25600 | E25: 25600 | F25: 0 | G25: =SUM(E25:F25) -> 25600
A26: Holy Family 2014 | C26: 9600 | E26: 9600 | G26: =SUM(E26:F26) -> 9600 | H26: 0 | I26: Bonds are to pay off by 10/1/2015
A27: Hooper Pointe | B27: 9946.69 | D27: =9882.84 -> 9882.84 | E27: =9777.89 -> 9777.89 | F27: 0 | G27: =SUM(E27:F27) -> 9777.89 | H27: 9000
A28: Iberville Phase IV | B28: 0 | C28: 0 | D28: 0 | E28: 22000 | G28: =SUM(E28:F28) -> 22000 | H28: 20000
A29: Jefferson Lakes Apts | B29: 14900 | C29: 14900 | D29: 14900 | E29: =13680 -> 13680 | F29: 0 | G29: =SUM(E29:F29) -> 13680 | H29: 12000
A30: Lapalco Apts | B30: 6400 | C30: 6400 | D30: 6400 | E30: 6400 | F30: 0 | G30: =SUM(E30:F30) -> 6400 | H30: 5500
A31: Louisiana Chateau | B31: 56685 | C31: 56165 | D31: =55565 -> 55565 | E31: 54855 | F31: 0 | G31: =SUM(E31:F31) -> 54855 | H31: 50000
A32: Mallard Crossing 2011 | B32: 16950 | C32: 10940 | D32: =5290+5262.5 -> 10552.5 | E32: 5240 | F32: =10525-E32 -> 5285 | G32: =SUM(E32:F32) -> 10525 | H32: 9500
A33: Meadowbrook 2006 | B33: 4850 | C33: 4770 | D33: =4685 -> 4685 | E33: 4640 | F33: 0 | G33: =SUM(E33:F33) -> 4640 | H33: 4580
A34: Melrose 2002 | B34: 3917.16 | C34: 3901.5 | D34: =3901.5 -> 3901.5 | E34: 3925.05 | F34: 0 | G34: =SUM(E34:F34) -> 3925.05 | H34: 3828
A35: The Muses 2010 | B35: 4313.33 | C35: 2121.77 | D35: =2093.31 -> 2093.31 | F35: 2090 | G35: =SUM(E35:F35) -> 2090 | H35: 1900
A36: New Zion 2013 | C36: 4200 | E36: 4200 | F36: 0 | G36: =SUM(E36:F36) -> 4200 | H36: 0 | I36: Bonds paid off FY15
A37: Palmetto | B37: 3040 | C37: 2940 | D37: =2940 -> 2940 | E37: 2840 | F37: 0 | G37: =SUM(E37:F37) -> 2840 | H37: 2540
A38: Peppermill Apartments Ph II | B38: 0 | C38: 8545 | D38: =4180 -> 4180 | F38: 4140 | G38: =SUM(E38:F38) -> 4140 | H38: 4000
A39: Plantation Apartments | B39: 5210 | C39: 5090 | D39: =4965 -> 4965 | E39: 0 | F39: 0 | G39: =SUM(E39:F39) -> 0 | H39: 0 | I39: Bonds paid off
A40: Port Royal Apartments | B40: 0 | C40: 0 | D40: 0 | E40: 16000 | G40: =SUM(E40:F40) -> 16000 | H40: 14000
A41: Renaissance Gateway 2013 | B41: 0 | C41: 23128.8 | D41: =600+11500 -> 12100 | F41: 11500 | G41: =SUM(E41:F41) -> 11500 | H41: 9700
...

Sheet SF Issuer Fees
A1: Louisiana Housing Corporation
A2: Single Family Issuer Fees
A5: Program | B5: Trustee | C5: Reversal of 06/30/16 Accrual | D5: 12/01/16 Projected | E5: 06/01/17 Projected | F5: One Month Accrual (6/30/17) | G5: FY 2017
A6: 2002A | B6: Whitney | C6: 0 | D6: 0 | E6: 0 | F6: 0 | G6: 0 | H6: Refunded in 15A
A7: 2004A | B7: Whitney | C7: 0 | D7: 0 | E7: 0 | F7: 0 | G7: 0 | H7: Refunded in 15A
A8: 2004B | B8: Whitney | C8: 0 | D8: 0 | E8: 0 | F8: 0 | G8: 0 | H8: Refunded in 15A
A9: 2004C | B9: Whitney | C9: 0 | D9: 0 | E9: 0 | F9: 0 | G9: 0 | H9: Refunded in 15A
A10: 2005A | B10: Whitney | C10: 0 | D10: 0 | E10: 0 | F10: 0 | G10: 0 | H10: Refunded in 15A
A11: 2006A | B11: Whitney | C11: 0 | D11: 0 | E11: 0 | F11: 0 | G11: 0 | H11: Refunded in 15A
A12: 2006B | B12: Whitney | C12: 0 | D12: 0 | E12: 0 | F12: 0 | G12: 0 | H12: Refunded in 15A
A13: 2006C | B13: Whitney | C13: 0 | D13: 0 | E13: 0 | F13: 0 | G13: 0 | H13: Refunded in 15A
A14: 2006D | B14: Whitney | C14: -4023.3617 | D14: 20003.49 | E14: 15866.84 | F14: 2644.4733 | G14: 34491.442
A15: 2007A | B15: Whitney | C15: -3861.5533 | D15: 19701.94 | E15: 16234.55 | F15: 2705.7583 | G15: 34780.695
A16: 2007B | B16: Whitney | C16: -5433.44 | D16: 27471.09 | E16: 22341.54 | F16: 3723.59 | G16: 48102.78
A17: 2007C | B17: Whitney | C17: -6439.4833 | D17: 32190.49 | E17: 25744.07 | F17: 4290.6783 | G17: 55785.755
A18: 2008A | B18: Whitney | C18: -4912.4183 | D18: 23858.74 | E18: 18242.96 | F18: 3040.4933 | G18: 40229.775
A19: 2008B | B19: Whitney | C19: 0 | D19: 0 | E19: 0 | F19: 0 | G19: 0
A20: 2009A | B20: Whitney | C20: -5092.505 | D20: 26578.27 | E20: 22601.53 | F20: 3766.9217 | G20: 47854.217
A21: 2010A | B21: Whitney | C21: 0 | D21: 197470.25 | E21: 0 | F21: 0 | G21: 197470.25
A22: 2011A | B22: Whitney | C22: -16012.713 | D22: 88981.53 | E22: 81886.78 | F22: 13647.797 | G22: 168503.39
A23: 2012A | B23: Whitney | C23: -4961.755 | D23: 29161.85 | E23: 28553.16 | F23: 4758.86 | G23: 57512.115
A24: 2013A | B24: Whitney | C24: -3300 | D24: 19200 | E24: 18000 | F24: 2900 | G24: 36800
A25: 2015A | B25: Whitney | C25: -12730 | D25: 71130 | E25: 58530 | F25: 8530 | G25: 125460
A27: FY 2017 Single Family Issuer Fees | D27: =SUM(D6:D26) -> 555747.65 | G27: =SUM(G6:G25) -> 846990.42

Sheet HUD Disposition Prop

Sheet Total Expenses
A1: 2016-17 Budget: | B1: Total | C1: Total | D1: Administration | E1: Administration | F1: Housing Production | G1: Housing Production | H1: Executive | I1: Executive | J1: Asset Mgmt | K1: Asset Mgmt | L1: Legal | M1: Legal | N1: Internal Audit | O1: Internal Audit | P1: Disaster Hsg | Q1: Disaster HSg | R1: Energy/S8CA | S1: Energy/S8CA | T1: LHA | U1: LHA
A2: by Expenditure Type | B2: 2016-17 | C2: 2015-16 | D2: =$B$2 -> 2016-17 | E2: =$C$2 -> 2015-16 | F2: =$B$2 -> 2016-17 | G2: =$C$2 -> 2015-16 | H2: =$B$2 -> 2016-17 | I2: =$C$2 -> 2015-16 | J2: =$B$2 -> 2016-17 | K2: =$C$2 -> 2015-16 | L2: =$B$2 -> 2016-17 | M2: =$C$2 -> 2015-16 | N2: =$B$2 -> 2016-17 | O2: =$C$2 -> 2015-16 | P2: =$B$2 -> 2016-17 | Q2: =$C$2 -> 2015-16 | R2: =$B$2 -> 2016-17 | S2: =$C$2 -> 2015-16 | T2: =$B$2 -> 2016-17 | U2: =$C$2 -> 2015-16
A3: and Department | B3: Budget | C3: Budget | D3: Budget | E3: Budget | F3: Budget | G3: Budget | H3: Budget | I3: Budget | J3: Budget | K3: Budget | L3: Budget | M3: Budget | N3: Budget | O3: Budget | P3: Budget | Q3: Budget | R3: Budget | S3: Budget | T3: Budget | U3: Budget
A4: Payroll & Benefits | B4: =D4+F4+H4+J4+L4+N4+P4+R4+T4 -> 10391631 | C4: =E4+G4+I4+K4+M4+O4+Q4+S4+U4 -> 11439323 | D4: =HR!H4 -> 2507480.2 | E4: 3664553 | F4: =HR!H19 -> 1455650.9 | G4: 1600921 | H4: =HR!H16 -> 1197111.6 | I4: 633190 | J4: =HR!H11 -> 856637.16 | K4: 1081694 | L4: =HR!H23 -> 576062.23 | M4: 641602 | N4: =HR!H22 -> 439805.38 | O4: 328843 | P4: =HR!H14 -> 640535.85 | Q4: 459095 | R4: =HR!H15+HR!H25 -> 1357726.4 | S4: 1597885 | T4: =HR!H24 -> 1360620.9 | U4: 1431540
A5: Contracts/Professional Services | B5: =D5+F5+H5+J5+L5+N5+P5+R5+T5 -> 1425459 | C5: =E5+G5+I5+K5+M5+O5+Q5+S5+U5 -> 2240639 | D5: =SUM('Prof Serv'!F4:H4) -> 237708 | E5: =348874 -> 348874 | F5: =SUM('Prof Serv'!F19:H19) -> 475001.02 | G5: 421000 | H5: =SUM('Prof Serv'!F16:H16) -> 155000 | I5: 1083878 | J5: =SUM('Prof Serv'!F11:H11) -> 30000 | K5: 0 | L5: =SUM('Prof Serv'!F23:H23) -> 0 | M5: 0 | N5: =SUM('Prof Serv'!F22:H22) -> 0 | O5: 0 | P5: =SUM('Prof Serv'!F14:H14) -> 286250 | Q5: 25000 | R5: =SUM('Prof Serv'!F15:H15)+SUM('Prof Serv'!F25:H25) -> 130500 | S5: 241500 | T5: =SUM('Prof Serv'!F24:H24) -> 111000 | U5: 120387
A6: Legal - Contracts | B6: =D6+F6+H6+J6+L6+N6+P6+R6+T6 -> 100000 | C6: =E6+G6+I6+K6+M6+O6+Q6+S6+U6 -> 92334 | D6: ='Prof Serv'!J4 -> 0 | E6: 0 | F6: ='Prof Serv'!J19 -> 0 | G6: 0 | H6: ='Prof Serv'!J16 -> 0 | I6: 0 | J6: ='Prof Serv'!J11 -> 0 | K6: 0 | L6: ='Prof Serv'!J23 -> 100000 | M6: 92334 | N6: ='Prof Serv'!J22 -> 0 | O6: 0 | P6: ='Prof Serv'!J14 -> 0 | Q6: 0 | R6: ='Prof Serv'!J15+'Prof Serv'!J25 -> 0 | S6: 0 | T6: ='Prof Serv'!J24 -> 0 | U6: 0
A7: Travel & Training | B7: =D7+F7+H7+J7+L7+N7+P7+R7+T7 -> 315244.5 | C7: =E7+G7+I7+K7+M7+O7+Q7+S7+U7 -> 332257 | D7: =Travel!E4 -> 54780 | E7: 58000 | F7: =Travel!E19 -> 11000 | G7: 20450 | H7: =Travel!E16 -> 108934.5 | I7: 70000 | J7: =Travel!E11 -> 48985 | K7: 81607 | L7: =Travel!E23 -> 11400 | M7: 9500 | N7: =Travel!E22 -> 1500 | O7: 4200 | P7: =Travel!E14 -> 8000 | Q7: 8500 | R7: =Travel!E15+Travel!E25 -> 40220 | S7: 41500 | T7: =Travel!E24 -> 30425 | U7: 38500
A8: Operating Services | B8: =D8+F8+H8+J8+L8+N8+P8+R8+T8 -> 1254026.2 | C8: =E8+G8+I8+K8+M8+O8+Q8+S8+U8 -> 954232 | D8: ='Other Operating Expenses'!E4 -> 952378.21 | E8: =978500-373301 -> 605199 | F8: ='Other Operating Expenses'!E19 -> 10570 | G8: 21000 | H8: ='Other Operating Expenses'!E16 -> 58300 | I8: 71976 | J8: ='Other Operating Expenses'!E11 -> 13012 | K8: 28560 | L8: ='Other Operating Expenses'!E23 -> 108571 | M8: 130618 | N8: ='Other Operating Expenses'!E22 -> 10560 | O8: 2800 | P8: ='Other Operating Expenses'!E14 -> 17896 | Q8: 14756 | R8: ='Other Operating Expenses'!E15+'Other Operating Expenses'!E25 -> 7355 | S8: 13300 | T8: ='Other Operating Expenses'!E24 -> 75384 | U8: 66023
A9: Supplies | B9: =D9+F9+H9+J9+L9+N9+P9+R9+T9 -> 100150 | C9: =E9+G9+I9+K9+M9+O9+Q9+S9+U9 -> 118400 | D9: =Supplies!E4 -> 46450 | E9: 80000 | F9: =Supplies!E19 -> 600 | G9: 8500 | H9: =Supplies!E16 -> 30900 | I9: 17500 | J9: =Supplies!E11 -> 3500 | K9: 4450 | L9: =Supplies!E23 -> 400 | M9: 1500 | N9: =Supplies!E22 -> 2000 | O9: 1500 | P9: =Supplies!E14 -> 5050 | Q9: 250 | R9: =Supplies!E15+Supplies!E25 -> 3250 | S9: 2000 | T9: =Supplies!E24 -> 8000 | U9: 2700
A10: Auditing Expense | B10: =D10+F10+H10+J10+L10+N10+P10+R10+T10 -> 222500 | C10: =E10+G10+I10+K10+M10+O10+Q10+S10+U10 -> 244515 | D10: ='Prof Serv'!I4 -> 155000 | E10: 162550 | F10: ='Prof Serv'!I19 -> 0 | G10: 0 | H10: ='Prof Serv'!I16 -> 0 | I10: 0 | J10: ='Prof Serv'!I11 -> 0 | K10: 0 | L10: ='Prof Serv'!I23 -> 0 | M10: 0 | N10: ='Prof Serv'!I22 -> 67500 | O10: 75000 | P10: ='Prof Serv'!I14 -> 0 | Q10: 0 | R10: ='Prof Serv'!I15+'Prof Serv'!I25 -> 0 | S10: 0 | T10: ='Prof Serv'!I24 -> 0 | U10: 6965
A11: Building Bond Interest | B11: =D11+F11+H11+J11+L11+N11+P11+R11+T11 -> 13568.75 | C11: =E11+G11+I11+K11+M11+O11+Q11+S11+U11 -> 38275 | D11: 0 | E11: 0 | F11: 0 | G11: 0 | H11: ='Bldg Bond Int'!F15 -> 13568.75 | I11: 38275 | J11: 0 | K11: 0 | L11: 0 | M11: 0 | N11: 0 | O11: 0 | P11: 0 | Q11: 0 | R11: 0 | S11: 0 | T11: 0 | U11: 0
A12: Building Expense | B12: =D12+F12+H12+J12+L12+N12+P12+R12+T12 -> 357727 | C12: =E12+G12+I12+K12+M12+O12+Q12+S12+U12 -> 373297 | D12: ='Bldg Maint ONLY'!E4 -> 357727 | E12: 373297 | F12: 0 | G12: 0 | H12: 0 | I12: 0 | J12: 0 | K12: 0 | L12: 0 | M12: 0 | N12: 0 | O12: 0 | P12: 0 | Q12: 0 | R12: 0 | S12: 0 | T12: 0 | U12: 0
A13: Capital Expenditures | B13: =D13+F13+H13+J13+L13+N13+P13+R13+T13 -> 85000 | C13: =E13+G13+I13+K13+M13+O13+Q13+S13+U13 -> 0 | D13: ='Capital Exp'!E4 -> 75000 | E13: 0 | F13: ='Capital Exp'!E19 -> 0 | G13: 0 | H13: ='Capital Exp'!E16 -> 0 | I13: 0 | J13: ='Capital Exp'!E11 -> 10000 | K13: 0 | L13: ='Capital Exp'!E23 -> 0 | M13: 0 | N13: ='Capital Exp'!E22 -> 0 | O13: 0 | P13: ='Capital Exp'!E14 -> 0 | Q13: 0 | R13: ='Capital Exp'!E15+'Capital Exp'!E25 -> 0 | S13: 0 | T13: ='Capital Exp'!E24 -> 0 | U13: 0
A14: 2/23/16 Tornadoes | B14: =D14+F14+H14+J14+L14+N14+P14+R14+T14 -> 0 | C14: 0 | D14: 0 | E14: 0 | F14: =1000000-1000000 -> 0 | G14: 0 | H14: 0 | I14: 0 | J14: 0 | K14: 0 | L14: 0 | M14: 0 | N14: 0 | O14: 0 | P14: 0 | Q14: 0 | R14: 0 | S14: 0 | T14: 0 | U14: 0
A15: Grand Total | B15: =SUM(B4:B14) -> 14265306 | C15: =SUM(C4:C14) -> 15833272 | D15: =SUM(D4:D14) -> 4386523.4 | E15: =SUM(E4:E14) -> 5292473 | F15: =SUM(F4:F14) -> 1952821.9 | G15: =SUM(G4:G14) -> 2071871 | H15: =SUM(H4:H14) -> 1563814.9 | I15: =SUM(I4:I14) -> 1914819 | ... U15: =SUM(U4:U14) -> 1666115
A18: =A1 -> 2016-17 Budget: | B18: Total | C18: Total | D18: =$B$19 -> 2016-17 | E18: =$C$19 -> 2015-16 | F18: 2016-17 | G18: 2015-16 | H18: 2016-17 | I18: 2015-16 | J18: 2016-17 | K18: 2015-16 | L18: 2016-17 | M18: 2015-16 | N18: 2016-17 | O18: 2015-16 | P18: 2016-17 | Q18: 2015-16 | R18: 2016-17 | S18: 2015-16 | T18: 2016-17 | U18: 2015-16 | V18: 2016-17 | W18: 2015-16
A19: by Functional | B19: 2016-17 | C19: 2015-16 | D19: Payroll & | E19: Payroll & | F19: Contracts/ | G19: Contracts/ | H19: Contracts/ | I19: Contracts/ | J19: Travel & | K19: Travel & | L19: Operating | M19: Operating | P19: Auditing | Q19: Auditing | R19: Building | S19: Building | T19: Building | U19: Building | V19: Capital | W19: Capital
A20: Grouping | B20: Budget | C20: Budget | D20: Benefits | E20: Benefits | F20: Prof Services | G20: Prof Services | H20: Legal | I20: Legal | J20: Training | K20: Training | L20: Services | M20: Services | N20: Supplies | O20: Supplies | P20: Expense | Q20: Expense | R20: Bond Interest | S20: Bond Interest | T20: Expense | U20: Expense | V20: Expenditures | W20: Expenditures
A21: Administration | B21: =D21+F21+H21+J21+L21+N21+P21+R21+T21+V21+X21 -> 4386523.4 | C21: =E21+G21+I21+K21+M21+O21+Q21+S21+U21+W21+Y21 -> 5292473 | D21: =D4 -> 2507480.2 | E21: =E4 -> 3664553 | F21: =D5 -> 237708 | G21: =E5 -> 348874 | H21: =D6 -> 0 | I21: =E6 -> 0 | J21: =D7 -> 54780 | K21: =E7 -> 58000 | L21: =D8 -> 952378.21 | M21: =E8 -> 605199 | N21: =D9 -> 46450 | O21: =E9 -> 80000 | P21: =D10 -> 155000 | Q21: =E10 -> 162550 | R21: =D11 -> 0 | S21: =E11 -> 0 | T21: =D12 -> 357727 | U21: =E12 -> 373297 | V21: =D13 -> 75000 | W21: 0
A22: Housing Production | B22: =D22+F22+H22+J22+L22+N22+P22+R22+T22+V22+X22 -> 1952821.9 | C22: =E22+G22+I22+K22+M22+O22+Q22+S22+U22+W22+Y22 -> 2071871 | D22: =F4 -> 1455650.9 | E22: =G4 -> 1600921 | F22: =F5 -> 475001.02 | G22: =G5 -> 421000 | H22: =F6 -> 0 | I22: =G6 -> 0 | J22: =F7 -> 11000 | K22: =G7 -> 20450 | L22: =F8 -> 10570 | M22: =G8 -> 21000 | N22: =F9 -> 600 | O22: =G9 -> 8500 | P22: =F10 -> 0 | Q22: =G10 -> 0 | R22: =F11 -> 0 | S22: =G11 -> 0 | T22: =F12 -> 0 | U22: =G12 -> 0 | V22: =F13 -> 0 | W22: 0
A23: Executive | B23: =D23+F23+H23+J23+L23+N23+P23+R23+T23+V23+X23 -> 1563814.9 | C23: =E23+G23+I23+K23+M23+O23+Q23+S23+U23+W23+Y23 -> 1914819 | D23: =H4 -> 1197111.6 | E23: =I4 -> 633190 | F23: =H5 -> 155000 | G23: =I5 -> 1083878 | H23: =H6 -> 0 | I23: =I6 -> 0 | J23: =H7 -> 108934.5 | K23: =I7 -> 70000 | L23: =H8 -> 58300 | M23: =I8 -> 71976 | N23: =H9 -> 30900 | O23: =I9 -> 17500 | P23: =H10 -> 0 | Q23: =I10 -> 0 | R23: =H11 -> 13568.75 | S23: =I11 -> 38275 | T23: =H12 -> 0 | U23: =I12 -> 0 | V23: =H13 -> 0 | W23: 0
A24: Asset Mgmt | B24: =D24+F24+H24+J24+L24+N24+P24+R24+T24+V24+X24 -> 962134.16 | C24: =E24+G24+I24+K24+M24+O24+Q24+S24+U24+W24+Y24 -> 1196311 | D24: =J4 -> 856637.16 | E24: =K4 -> 1081694 | F24: =J5 -> 30000 | G24: =K5 -> 0 | H24: =J6 -> 0 | I24: =K6 -> 0 | J24: =J7 -> 48985 | K24: =K7 -> 81607 | L24: =J8 -> 13012 | M24: =K8 -> 28560 | N24: =J9 -> 3500 | O24: =K9 -> 4450 | P24: =J10 -> 0 | Q24: =K10 -> 0 | R24: =J11 -> 0 | S24: =K11 -> 0 | T24: =J12 -> 0 | U24: =K12 -> 0 | V24: =J13 -> 10000 | W24: 0
A25: Legal | B25: =D25+F25+H25+J25+L25+N25+P25+R25+T25+V25+X25 -> 796433.23 | C25: =E25+G25+I25+K25+M25+O25+Q25+S25+U25+W25+Y25 -> 875554 | D25: =L4 -> 576062.23 | E25: =M4 -> 641602 | F25: =L5 -> 0 | G25: =M5 -> 0 | H25: =L6 -> 100000 | I25: =M6 -> 92334 | J25: =L7 -> 11400 | K25: =M7 -> 9500 | L25: =L8 -> 108571 | M25: =M8 -> 130618 | N25: =L9 -> 400 | O25: =M9 -> 1500 | P25: =L10 -> 0 | Q25: =M10 -> 0 | R25: =L11 -> 0 | S25: =M11 -> 0 | T25: =L12 -> 0 | U25: =M12 -> 0 | V25: =L13 -> 0 | W25: 0
A26: Internal Audit | B26: =D26+F26+H26+J26+L26+N26+P26+R26+T26+V26+X26 -> 521365.38 | C26: =E26+G26+I26+K26+M26+O26+Q26+S26+U26+W26+Y26 -> 412343 | D26: =N4 -> 439805.38 | E26: =O4 -> 328843 | F26: =N5 -> 0 | G26: =O5 -> 0 | H26: =N6 -> 0 | I26: =O6 -> 0 | J26: =N7 -> 1500 | K26: =O7 -> 4200 | L26: =N8 -> 10560 | M26: =O8 -> 2800 | N26: =N9 -> 2000 | O26: =O9 -> 1500 | P26: =N10 -> 67500 | Q26: =O10 -> 75000 | R26: =N11 -> 0 | S26: =O11 -> 0 | T26: =N12 -> 0 | U26: =O12 -> 0 | V26: =N13 -> 0 | W26: 0
A27: Disaster/Sustainable Housing | B27: =D27+F27+H27+J27+L27+N27+P27+R27+T27+V27+X27 -> 957731.85 | C27: =E27+G27+I27+K27+M27+O27+Q27+S27+U27+W27+Y27 -> 507601 | D27: =P4 -> 640535.85 | E27: =Q4 -> 459095 | F27: =P5 -> 286250 | G27: =Q5 -> 25000 | H27: =P6 -> 0 | I27: =Q6 -> 0 | J27: =P7 -> 8000 | K27: =Q7 -> 8500 | L27: =P8 -> 17896 | M27: =Q8 -> 14756 | N27: =P9 -> 5050 | O27: =Q9 -> 250 | P27: =P10 -> 0 | Q27: =Q10 -> 0 | R27: =P11 -> 0 | S27: =Q11 -> 0 | T27: =P12 -> 0 | U27: =Q12 -> 0 | V27: =P13 -> 0 | W27: 0
A28: Energy/S8CA | B28: =D28+F28+H28+J28+L28+N28+P28+R28+T28+V28+X28 -> 1539051.4 | C28: =E28+G28+I28+K28+M28+O28+Q28+S28+U28+W28+Y28 -> 1896185 | D28: =R4 -> 1357726.4 | E28: =S4 -> 1597885 | F28: =R5 -> 130500 | G28: =S5 -> 241500 | H28: =R6 -> 0 | I28: =S6 -> 0 | J28: =R7 -> 40220 | K28: =S7 -> 41500 | L28: =R8 -> 7355 | M28: =S8 -> 13300 | N28: =R9 -> 3250 | O28: =S9 -> 2000 | P28: =R10 -> 0 | Q28: =S10 -> 0 | R28: =R11 -> 0 | S28: =S11 -> 0 | T28: =R12 -> 0 | U28: =S12 -> 0 | V28: =R13 -> 0 | W28: 0
A29: LHA | B29: =D29+F29+H29+J29+L29+N29+P29+R29+T29+V29+X29 -> 1585429.9 | C29: =E29+G29+I29+K29+M29+O29+Q29+S29+U29+W29+Y29 -> 1666115 | D29: =T4 -> 1360620.9 | E29: =U4 -> 1431540 | F29: =T5 -> 111000 | G29: =U5 -> 120387 | H29: =T6 -> 0 | I29: =U6 -> 0 | J29: =T7 -> 30425 | K29: =U7 -> 38500 | L29: =T8 -> 75384 | M29: =U8 -> 66023 | N29: =T9 -> 8000 | O29: =U9 -> 2700 | P29: =T10 -> 0 | Q29: =U10 -> 6965 | R29: =T11 -> 0 | S29: =U11 -> 0 | T29: =T12 -> 0 | U29: =U12 -> 0 | V29: =T13 -> 0 | W29: 0
A30: Grand Total | B30: =SUM(B21:B29) -> 14265306 | C30: =SUM(C21:C29) -> 15833272 | D30: =SUM(D21:D29) -> 10391631 | E30: =SUM(E21:E29) -> 11439323 | F30: =SUM(F21:F29) -> 1425459 | G30: =SUM(G21:G29) -> 2240639 | H30: =SUM(H21:H29) -> 100000 | I30: =SUM(I21:I29) -> 92334 | ... W30: =SUM(W21:W29) -> 0
A32: =A1 -> 2016-17 Budget: | B32: Total
A33: by Summarized Groupings | B33: =B2 -> 2016-17 | D33: Contracts - | E33: Contracts -
A34: & Expenditure Type | B34: Budget | C34: Human Resources | D34: Prof Services | E34: Legal | F34: Travel & Training | G34: Operating Svcs | H34: Supplies | I34: Auditing | J34: Bldg Bond Interest | K34: Bldg Expense | L34: Capital Expend. | M34: 2/23 Storm Exp
A35: Administration | B35: =SUM(C35:M35) -> 4386523.4 | C35: =D21 -> 2507480.2 | D35: =F21 -> 237708 | E35: =H21 -> 0 | F35: =J21 -> 54780 | G35: =L21 -> 952378.21 | H35: =N21 -> 46450 | I35: =P21 -> 155000 | J35: =R21 -> 0 | K35: =T21 -> 357727 | L35: =V21 -> 75000 | M35: =X21 -> 0 | R35: 0 | T35: 0
A36: Housing Production | B36: =SUM(C36:M36) -> 1952821.9 | C36: =D22 -> 1455650.9 | D36: =F22 -> 475001.02 | E36: =H22 -> 0 | F36: =J22 -> 11000 | G36: =L22 -> 10570 | H36: =N22 -> 600 | I36: =P22 -> 0 | J36: =R22 -> 0 | K36: =T22 -> 0 | L36: =V22 -> 0 | M36: =X22 -> 0
A37: Executive | B37: =SUM(C37:M37) -> 1563814.9 | C37: =D23 -> 1197111.6 | D37: =F23 -> 155000 | E37: =H23 -> 0 | F37: =J23 -> 108934.5 | G37: =L23 -> 58300 | H37: =N23 -> 30900 | I37: =P23 -> 0 | J37: =R23 -> 13568.75 | K37: =T23 -> 0 | L37: =V23 -> 0 | M37: =X23 -> 0
A38: Asset Mgmt | B38: =SUM(C38:M38) -> 962134.16 | C38: =D24 -> 856637.16 | D38: =F24 -> 30000 | E38: =H24 -> 0 | F38: =J24 -> 48985 | G38: =L24 -> 13012 | H38: =N24 -> 3500 | I38: =P24 -> 0 | J38: =R24 -> 0 | K38: =T24 -> 0 | L38: =V24 -> 10000 | M38: =X24 -> 0
A39: Legal | B39: =SUM(C39:M39) -> 796433.23 | C39: =D25 -> 576062.23 | D39: =F25 -> 0 | E39: =H25 -> 100000 | F39: =J25 -> 11400 | G39: =L25 -> 108571 | H39: =N25 -> 400 | I39: =P25 -> 0 | J39: =R25 -> 0 | K39: =T25 -> 0 | L39: =V25 -> 0 | M39: =X25 -> 0
A40: Internal Audit | B40: =SUM(C40:M40) -> 521365.38 | C40: =D26 -> 439805.38 | D40: =F26 -> 0 | E40: =H26 -> 0 | F40: =J26 -> 1500 | G40: =L26 -> 10560 | H40: =N26 -> 2000 | I40: =P26 -> 67500 | J40: =R26 -> 0 | K40: =T26 -> 0 | L40: =V26 -> 0 | M40: =X26 -> 0
A41: Disaster/Sustainable Housing | B41: =SUM(C41:M41) -> 957731.85 | C41: =D27 -> 640535.85 | D41: =F27 -> 286250 | E41: =H27 -> 0 | F41: =J27 -> 8000 | G41: =L27 -> 17896 | H41: =N27 -> 5050 | I41: =P27 -> 0 | J41: =R27 -> 0 | K41: =T27 -> 0 | L41: =V27 -> 0 | M41: =X27 -> 0
A42: Energy | B42: =SUM(C42:M42) -> 1539051.4 | C42: =D28 -> 1357726.4 | D42: =F28 -> 130500 | E42: =H28 -> 0 | F42: =J28 -> 40220 | G42: =L28 -> 7355 | H42: =N28 -> 3250 | I42: =P28 -> 0 | J42: =R28 -> 0 | K42: =T28 -> 0 | L42: =V28 -> 0 | M42: =X28 -> 0
A43: LHA | B43: =SUM(C43:M43) -> 1585429.9 | C43: =D29 -> 1360620.9 | D43: =F29 -> 111000 | E43: =H29 -> 0 | F43: =J29 -> 30425 | G43: =L29 -> 75384 | H43: =N29 -> 8000 | I43: =P29 -> 0 | J43: =R29 -> 0 | K43: =T29 -> 0 | L43: =V29 -> 0 | M43: =X29 -> 0
...

Sheet HR
C1: HUMAN RESOURCES
I2: FTE's | Y2: Inc/(Decr)
C3: Total FY 2017 Request | H3: =H4+H11+H14+H15+H16+H19+H22+H23+H24+H25 -> 10391631 | I3: =I4+I11+I14+I15+I16+I19+I22+I23+I24+I25 -> 110 | J3: =H3-V463 -> 0 | Y3: =Y4+Y11+Y14+Y15+Y16+Y19+Y22+Y23+Y24+Y25 -> 3
C4: Administration | H4: =SUM(H5:H10) -> 2507480.2 | I4: =SUM(I5:I10) -> 29 | Y4: =SUM(Y5:Y10) -> 0
C5: Accounting | H5: =Y464 -> 1234440.8 | I5: 12 | Y5: 0
C6: Communications/Public Affairs | H6: =Y466 -> 193316.57 | I6: 2 | Y6: 0
C7: Human Resources | H7: =Y472 -> 119844.5 | I7: 2 | Y7: 0
C8: Information Technology | H8: =Y473 -> 518616.06 | I8: 6 | Y8: 0
C9: Operations Admin/Facilities & Fleet Mgt | H9: =Y477 -> 441262.28 | I9: =5+2 -> 7 | Y9: 2
C10: Policy & Reporting | H10: =Y479 -> 0 | I10: =C479 -> 0 | Y10: -2
C11: Asset Management | H11: =SUM(H12:H13) -> 856637.16 | I11: =SUM(I12:I13) -> 10 | Y11: =SUM(Y12:Y13) -> 1
C12: Compliance Monitoring/Env Reviews | H12: =Y467 -> 561873.04 | I12: =6+1 -> 7 | Y12: 1
C13: Desk Monitoring | H13: =Y468 -> 294764.12 | I13: 3 | Y13: 0
C14: Disaster Housing | H14: =Y469 -> 640535.85 | I14: 7 | Y14: 0
C15: Energy Assistance | H15: =Y470 -> 766729.3 | I15: 9 | Y15: 0
C16: Executive | H16: =SUM(H17:H18) -> 1197111.6 | I16: =SUM(I17:I18) -> 5 | Y16: =SUM(Y17:Y18) -> 0
C17: Board | H17: =Y465 -> 9688.5 | I17: =C465-10 -> 0 | Y17: 0
C18: Executive Staff | H18: =Y471 -> 1187423.1 | I18: 5 | Y18: 0
C19: Housing Production | H19: =SUM(H20:H21) -> 1455650.9 | I19: =SUM(I20:I21) -> 17 | Y19: =SUM(Y20:Y21) -> 2
C20: Rental Production | H20: =Y480 -> 957911.4 | I20: =10+1 -> 11 | Y20: 1
C21: Single Family Production | H21: =Y481 -> 497739.47 | I21: =5+1 -> 6 | Y21: 1
C22: Internal Audit | H22: =Y474 -> 439805.38 | I22: 4 | Y22: 0
C23: Legal | H23: =Y475 -> 576062.23 | I23: 5 | Y23: 0
C24: LHA | H24: =Y476 -> 1360620.9 | I24: 16 | Y24: 0
C25: Performance-Based Sect 8 Contract Administration | H25: =Y478 -> 590997.14 | I25: 8 | Y25: 0
P27: 0.358 | Q27: 0.0145 | R27: 0.062 | S27: =S463/N463 -> 0.10718265 | T27: =T463/N463 -> 0.0070313695 | U27: =U463/N463 -> 0.0031126497 | X27: 0.005
A28: EE No. | B28: Position No. | C28: Employee Name | D28: CS Level | E28: Position/Title | F28: Classified or Unclassified | G28: Type of Appt | H28: Level of Funding | I28: Budget Unit | J28: Funding Source | K28: Hourly Rate of Pay | L28: 6112 Regular Hours | M28: 6114 Overtime Hours | N28: Annual Rate of Pay | O28: 6116 Termination Pay | P28: 6132 LASERS Retirement | Q28: 6142 Medicare | R28: 6142 Social Security | S28: 6152 Health Insurance & HSA Contributions | T28: 6152 Dental Insurance | U28: 6152 Life Insurance | V28: Fully Loaded Salary | W28: 6165 Pension Liability Expense | X28: 6365 Unemployment Expense | Y28: Total Human Resource Expense
A29: 285282 | C29: Ackoury, Evelyn D. | D29: 615 | E29: Admin Prog Spec C | F29: Classified | G29: Permanent | H29: 0 | I29: Executive Staff | J29: Shared - General Fund | K29: 24.81 | L29: 2080 | N29: =IF(H29="1",(L29*K29)+(M29*K29),0) -> 0 | P29: =(N29-(M29*K29))*$P$27 -> 0 | Q29: =N29*$Q$27 -> 0 | R29: =0*$R$27 -> 0 | S29: =IF(H29="1",3242.52*2,0) -> 0 | T29: =IF(H29="1",276.36*2,0) -> 0 | U29: =IF(H29="1",162*2,0) -> 0 | V29: =SUM(N29:U29) -> 0 | W29: =IF(P29<>"",V29*$W$27,0) -> 0 | Y29: =X29+W29+V29 -> 0
A30: 162837 | C30: Ampim, John | D30: 314 | E30: IT Appl Project Leader | F30: Classified | G30: Permanent | H30: 1 | I30: Information Technology | J30: Shared - General Fund | K30: 35.1 | L30: 2080 | N30: =IF(H30="1",(L30*K30)+(M30*K30),0) -> 73008 | P30: =(N30-(M30*K30))*$P$27 -> 26136.864 | Q30: =N30*$Q$27 -> 1058.616 | R30: =0*$R$27 -> 0 | S30: =IF(H30="1",2828.52*2,0) -> 5657.04 | T30: =IF(H30="1",154.92*2,0) -> 309.84 | U30: 0 | V30: =SUM(N30:U30) -> 106170.36 | W30: =IF(P30<>"",V30*$W$27,0) -> 0 | Y30: =X30+W30+V30 -> 106170.36
A31: 182598 | C31: Anderson, Kip | D31: 618 | E31: Accountant Mgr 1 | F31: Classified | G31: Permanent | H31: 1 | I31: Accounting/Budget/Finance | J31: Performance-Based S8 Contract Administration | K31: =35.63*7.5% -> 2.67225 | L31: 2080 | N31: =IF(H31="1",(L31*K31)+(M31*K31),0) -> 5558.28 | P31: =(N31-(M31*K31))*$P$27 -> 1989.8642 | Q31: =N31*$Q$27 -> 80.59506 | R31: =0*$R$27 -> 0 | S31: =IF(H31="1",5166.6*2,0) -> 10333.2 | T31: =IF(H31="1",527.28*2,0) -> 1054.56 | U31: =IF(H31="1",162*2,0) -> 324 | V31: =SUM(N31:U31) -> 19340.499 | W31: =IF(P31<>"",V31*$W$27,0) -> 0 | Y31: =X31+W31+V31 -> 19340.499
C32: Anderson, Kip | D32: 618 | E32: Accountant Mgr 1 | F32: Classified | G32: Permanent | H32: 1 | I32: Accounting/Budget/Finance | J32: Shared - General Fund | K32: =35.63*55.5% -> 19.77465 | L32: 2080 | N32: =IF(H32="1",(L32*K32)+(M32*K32),0) -> 41131.272 | P32: =(N32-(M32*K32))*$P$27 -> 14724.995 | Q32: =N32*$Q$27 -> 596.40344 | R32: =0*$R$27 -> 0 | V32: =SUM(N32:U32) -> 56452.671 | W32: =IF(P32<>"",V32*$W$27,0) -> 0 | Y32: =X32+W32+V32 -> 56452.671
C33: Anderson, Kip | D33: 618 | E33: Accountant Mgr 1 | F33: Classified | G33: Permanent | H33: 1 | I33: Accounting/Budget/Finance | J33: Section 811 Supportive Hsg Pgm | K33: =35.63*2% -> 0.7126 | L33: 2080 | N33: =IF(H33="1",(L33*K33)+(M33*K33),0) -> 1482.208 | P33: =(N33-(M33*K33))*$P$27 -> 530.63046 | Q33: =N33*$Q$27 -> 21.492016 | R33: =0*$R$27 -> 0 | V33: =SUM(N33:U33) -> 2034.3305 | W33: =IF(P33<>"",V33*$W$27,0) -> 0 | Y33: =X33+W33+V33 -> 2034.3305
C34: Anderson, Kip | D34: 618 | E34: Accountant Mgr 1 | F34: Classified | G34: Permanent | H34: 1 | I34: Accounting/Budget/Finance | J34: Kat/Rita STARS Contam Drywall Project Delivery | K34: =35.63*2.5% -> 0.89075 | L34: 2080 | N34: =IF(H34="1",(L34*K34)+(M34*K34),0) -> 1852.76 | P34: =(N34-(M34*K34))*$P$27 -> 663.28808 | Q34: =N34*$Q$27 -> 26.86502 | R34: =0*$R$27 -> 0 | V34: =SUM(N34:U34) -> 2542.9131 | W34: =IF(P34<>"",V34*$W$27,0) -> 0 | Y34: =X34+W34+V34 -> 2542.9131
C35: Anderson, Kip | D35: 618 | E35: Accountant Mgr 1 | F35: Classified | G35: Permanent | H35: 1 | I35: Accounting/Budget/Finance | J35: ESG Shelter Program | K35: =35.63*5% -> 1.7815 | L35: 2080 | N35: =IF(H35="1",(L35*K35)+(M35*K35),0) -> 3705.52 | P35: =(N35-(M35*K35))*$P$27 -> 1326.5762 | Q35: =N35*$Q$27 -> 53.73004 | R35: =0*$R$27 -> 0 | V35: =SUM(N35:U35) -> 5085.8262 | W35: =IF(P35<>"",V35*$W$27,0) -> 0 | Y35: =X35+W35+V35 -> 5085.8262
C36: Anderson, Kip | D36: 618 | E36: Accountant Mgr 1 | F36: Classified | G36: Permanent | H36: 1 | I36: Accounting/Budget/Finance | J36: Isaac Homeowner Repair Program | K36: =35.63*7.5% -> 2.67225 | L36: 2080 | N36: =IF(H36="1",(L36*K36)+(M36*K36),0) -> 5558.28 | P36: =(N36-(M36*K36))*$P$27 -> 1989.8642 | Q36: =N36*$Q$27 -> 80.59506 | R36: =0*$R$27 -> 0 | V36: =SUM(N36:U36) -> 7628.7393 | W36: =IF(P36<>"",V36*$W$27,0) -> 0 | Y36: =X36+W36+V36 -> 7628.7393
C37: Anderson, Kip | D37: 618 | E37: Accountant Mgr 1 | F37: Classified | G37: Permanent | H37: 1 | I37: Accounting/Budget/Finance | J37: Kat/Rita NRPP Rd 1 & Rd 3 (formerly ALL NRPP) | K37: =35.63*10% -> 3.563 | L37: 2080 | N37: =IF(H37="1",(L37*K37)+(M37*K37),0) -> 7411.04 | P37: =(N37-(M37*K37))*$P$27 -> 2653.1523 | Q37: =N37*$Q$27 -> 107.46008 | R37: =0*$R$27 -> 0 | V37: =SUM(N37:U37) -> 10171.652 | W37: =IF(P37<>"",V37*$W$27,0) -> 0 | Y37: =X37+W37+V37 -> 10171.652
C38: Anderson, Kip | D38: 618 | E38: Accountant Mgr 1 | F38: Classified | G38: Permanent | H38: 1 | I38: Accounting/Budget/Finance | J38: Kat/Rita NRPP Plaquemines | K38: =35.63*7.5% -> 2.67225 | L38: 2080 | N38: =IF(H38="1",(L38*K38)+(M38*K38),0) -> 5558.28 | P38: =(N38-(M38*K38))*$P$27 -> 1989.8642 | Q38: =N38*$Q$27 -> 80.59506 | R38: =0*$R$27 -> 0 | V38: =SUM(N38:U38) -> 7628.7393 | W38: =IF(P38<>"",V38*$W$27,0) -> 0 | Y38: =X38+W38+V38 -> 7628.7393
C39: Anderson, Kip | D39: 618 | E39: Accountant Mgr 1 | F39: Classified | G39: Permanent | H39: 1 | I39: Accounting/Budget/Finance | J39: HUD Hsg Counseling Pgm | K39: =35.63*2.5% -> 0.89075 | L39: 2080 | N39: =IF(H39="1",(L39*K39)+(M39*K39),0) -> 1852.76 | P39: =(N39-(M39*K39))*$P$27 -> 663.28808 | Q39: =N39*$Q$27 -> 26.86502 | R39: =0*$R$27 -> 0 | V39: =SUM(N39:U39) -> 2542.9131 | W39: =IF(P39<>"",V39*$W$27,0) -> 0 | Y39: =X39+W39+V39 -> 2542.9131
A40: 189794 | C40: Anderson, Mike | D40: UNCL | E40: Board Member | F40: Unclassified | G40: Statutory Appointment | H40: 1 | I40: Board of Directors | J40: Admin Exp - Unallocable - General Fund | K40: 50 | L40: 18 | N40: =IF(H40="1",(L40*K40)+(M40*K40),0) -> 900 | P40: =(N40-(M40*K40))*0 -> 0 | Q40: =N40*$Q$27 -> 13.05 | R40: =N40*$R$27 -> 55.8 | S40: 0 | T40: 0 | U40: 0 | V40: =SUM(N40:U40) -> 968.85 | W40: =IF(P40<>"",V40*$W$27,0) -> 0 | Y40: =X40+W40+V40 -> 968.85
A41: 126742 | C41: Andrews, Rene T | D41: 613 | E41: Hsg Finance Spec 3 | F41: Classified | G41: Permanent | H41: 1 | I41: Louisiana Housing Authority | J41: Project-Based Section 8 Voucher Pgm | K41: =23.74*95% -> 22.553 | L41: 2080 | N41: =IF(H41="1",(L41*K41)+(M41*K41),0) -> 46910.24 | P41: =(N41-(M41*K41))*$P$27 -> 16793.866 | Q41: =N41*$Q$27 -> 680.19848 | R41: =0*$R$27 -> 0 | S41: =IF(H41="1",3242.52*2,0) -> 6485.04 | T41: =IF(H41="1",361.92*2,0) -> 723.84 | U41: =IF(H41="1",162*2,0) -> 324 | V41: =SUM(N41:U41) -> 71917.184 | W41: =IF(P41<>"",V41*$W$27,0) -> 0 | Y41: =X41+W41+V41 -> 71917.184
...

Sheet Travel
B1: Travel and Training Expenses | F1: IN-STATE TRAVEL & TRAINING | L1: OUT-OF-STATE TRAVEL & TRAINING
